BEGIN:VCALENDAR
VERSION:2.0
PRODID:spatie/icalendar-generator
DESCRIPTION:Events from SK Lázně Bohdaneč - zastaralý web
X-WR-CALDESC:Events from SK Lázně Bohdaneč - zastaralý web
REFRESH-INTERVAL;VALUE=DURATION:PT1440M
X-PUBLISHED-TTL:PT1440M
BEGIN:VTIMEZONE
TZID:Europe/Prague
BEGIN:DAYLIGHT
DTSTART:20240331T020000Z
TZOFFSETFROM:+0100
TZOFFSETTO:+0200
END:DAYLIGHT
BEGIN:STANDARD
DTSTART:20241027T030000Z
TZOFFSETFROM:+0200
TZOFFSETTO:+0100
END:STANDARD
BEGIN:DAYLIGHT
DTSTART:20250330T020000Z
TZOFFSETFROM:+0100
TZOFFSETTO:+0200
END:DAYLIGHT
END:VTIMEZONE
BEGIN:VTIMEZONE
TZID:UTC
BEGIN:STANDARD
DTSTART:20250724T090006Z
TZOFFSETFROM:+0000
TZOFFSETTO:+0000
END:STANDARD
END:VTIMEZONE
BEGIN:VEVENT
UID:41-37
DTSTAMP:20260420T090006Z
SUMMARY:U15: Česká Třebová - SKLB
LOCATION:Česká Třebová Skalka
ORGANIZER;CN=Aleš Eisner:MAILTO:ales12.eianer@gmail.com
DTSTART;TZID=Europe/Prague:20241009T160000
DTEND;TZID=Europe/Prague:20241009T170000
X-ALT-DESC;FMTTYPE=TEXT/HTML:2. kolo poháru předsedy KFS starších žák
 ů
CATEGORIES:U15
URL;VALUE=URI:http://www.sklaznebohdanec.cz/fotbal/mc-events/u15-ceska-treb
 ova-sklb/?mc_id=41
END:VEVENT
END:VCALENDAR